BEGIN:VCALENDAR
VERSION:2.0
PRODID:-//wp-events-plugin.com//7.2.3.1//EN
BEGIN:VEVENT
UID:2@durhamsoap.co.uk
DTSTART:20260314T090000Z
DTEND:20260530T133000Z
DTSTAMP:20260312T210802Z
URL:https://durhamsoap.co.uk/events/hexham-test/
SUMMARY:Hexham Farmers Market
DESCRIPTION:\n\nHexham Farmers Market is a long established market in the h
 eart of the historic town of Hexham in Northumberland. Our producers come 
 from within a 50 mile range of the town and they are all passionate about 
 what they do. They make the products themselves using a high percentage of
  locally produced ingredients\, so the meat you buy at Hexham Farmers’ M
 arket is reared by the producer and the vegetables are locally grown. We h
 ave about 25 producers who come to the market on a regular basis and you c
 an find out about most of them on our producer’s page.
END:VEVENT
END:VCALENDAR